Package: systemPipeTools Version: 1.17.0 Command: rm -rf systemPipeTools.buildbin-libdir && mkdir systemPipeTools.buildbin-libdir && /Users/biocbuild/BBS/utils/build-universal.sh systemPipeTools_1.17.0.tar.gz /Library/Frameworks/R.framework/Resources/bin/R systemPipeTools.buildbin-libdir StartedAt: 2025-10-01 02:10:47 -0400 (Wed, 01 Oct 2025) EndedAt: 2025-10-01 02:11:27 -0400 (Wed, 01 Oct 2025) EllapsedTime: 39.6 seconds RetCode: 0 Status: OK PackageFile: systemPipeTools_1.17.0.tgz PackageFileSize: 1.037 MiB