Package: systemPipeShiny Version: 1.21.0 Command: /Library/Frameworks/R.framework/Resources/bin/R CMD INSTALL systemPipeShiny StartedAt: 2025-11-24 15:05:23 -0500 (Mon, 24 Nov 2025) EndedAt: 2025-11-24 15:05:29 -0500 (Mon, 24 Nov 2025) EllapsedTime: 5.8 seconds RetCode: 0 Status: OK