Package: systemPipeShiny Version: 1.21.0 Command: /Library/Frameworks/R.framework/Resources/bin/R CMD build --keep-empty-dirs --no-resave-data systemPipeShiny StartedAt: 2025-11-24 18:02:54 -0500 (Mon, 24 Nov 2025) EndedAt: 2025-11-24 18:03:06 -0500 (Mon, 24 Nov 2025) EllapsedTime: 12.1 seconds RetCode: 0 Status: OK PackageFile: systemPipeShiny_1.21.0.tar.gz PackageFileSize: 4.308 MiB