Package: systemPipeR Version: 2.15.2 Command: /home/biocbuild/bbs-3.22-bioc/R/bin/R CMD INSTALL systemPipeR StartedAt: 2025-09-30 15:51:24 -0400 (Tue, 30 Sep 2025) EndedAt: 2025-09-30 15:52:09 -0400 (Tue, 30 Sep 2025) EllapsedTime: 44.8 seconds RetCode: 0 Status: OK