Package: syntenet Version: 1.11.2 Command: /home/biocbuild/bbs-3.22-bioc/R/bin/R CMD INSTALL syntenet StartedAt: 2025-09-30 15:16:40 -0400 (Tue, 30 Sep 2025) EndedAt: 2025-09-30 15:17:22 -0400 (Tue, 30 Sep 2025) EllapsedTime: 41.4 seconds RetCode: 0 Status: OK