Package: syntenet Version: 1.11.2 Command: /home/biocbuild/bbs-3.22-bioc/R/bin/R CMD build --keep-empty-dirs --no-resave-data --md5 syntenet StartedAt: 2025-09-29 20:42:53 -0400 (Mon, 29 Sep 2025) EndedAt: 2025-09-29 20:44:18 -0400 (Mon, 29 Sep 2025) EllapsedTime: 85.1 seconds RetCode: 0 Status: OK PackageFile: syntenet_1.11.2.tar.gz PackageFileSize: 3.029 MiB