Package: switchBox Version: 1.45.0 Command: /Library/Frameworks/R.framework/Resources/bin/R CMD INSTALL switchBox StartedAt: 2025-10-22 15:06:34 -0400 (Wed, 22 Oct 2025) EndedAt: 2025-10-22 15:07:06 -0400 (Wed, 22 Oct 2025) EllapsedTime: 31.7 seconds RetCode: 0 Status: OK