Package: subSeq Version: 1.39.0 Command: /home/biocbuild/bbs-3.22-bioc/R/bin/R CMD build --keep-empty-dirs --no-resave-data --md5 subSeq StartedAt: 2025-09-30 20:21:44 -0400 (Tue, 30 Sep 2025) EndedAt: 2025-09-30 20:22:22 -0400 (Tue, 30 Sep 2025) EllapsedTime: 38.0 seconds RetCode: 0 Status: OK PackageFile: subSeq_1.39.0.tar.gz PackageFileSize: 2.918 MiB