Package: structToolbox Version: 1.23.0 Command: /home/biocbuild/bbs-3.23-bioc/R/bin/R CMD build --keep-empty-dirs --no-resave-data structToolbox StartedAt: 2025-11-07 20:19:14 -0500 (Fri, 07 Nov 2025) EndedAt: 2025-11-07 20:29:52 -0500 (Fri, 07 Nov 2025) EllapsedTime: 637.9 seconds RetCode: 0 Status: OK PackageFile: structToolbox_1.23.0.tar.gz PackageFileSize: 4.767 MiB