Package: structToolbox Version: 1.21.0 Command: /Library/Frameworks/R.framework/Resources/bin/R CMD build --keep-empty-dirs --no-resave-data structToolbox StartedAt: 2025-09-29 17:50:52 -0400 (Mon, 29 Sep 2025) EndedAt: 2025-09-29 17:54:31 -0400 (Mon, 29 Sep 2025) EllapsedTime: 219.5 seconds RetCode: 0 Status: OK PackageFile: structToolbox_1.21.0.tar.gz PackageFileSize: 4.934 MiB