Package: struct Version: 1.23.0 Command: /home/biocbuild/bbs-3.23-bioc/R/bin/R CMD INSTALL struct StartedAt: 2025-11-23 15:32:37 -0500 (Sun, 23 Nov 2025) EndedAt: 2025-11-23 15:33:03 -0500 (Sun, 23 Nov 2025) EllapsedTime: 25.2 seconds RetCode: 0 Status: OK