Package: struct Version: 1.23.0 Command: /Library/Frameworks/R.framework/Resources/bin/R CMD build --keep-empty-dirs --no-resave-data struct StartedAt: 2025-11-16 23:54:34 -0500 (Sun, 16 Nov 2025) EndedAt: 2025-11-16 23:55:15 -0500 (Sun, 16 Nov 2025) EllapsedTime: 41.3 seconds RetCode: 0 Status: OK PackageFile: struct_1.23.0.tar.gz PackageFileSize: 604.4 KiB