Package: struct Version: 1.23.0 Command: /Library/Frameworks/R.framework/Resources/bin/R CMD INSTALL struct StartedAt: 2025-11-14 15:18:19 -0500 (Fri, 14 Nov 2025) EndedAt: 2025-11-14 15:18:30 -0500 (Fri, 14 Nov 2025) EllapsedTime: 11.1 seconds RetCode: 0 Status: OK