Package: stepNorm Version: 1.81.0 Command: /home/biocbuild/bbs-3.22-bioc/R/bin/R CMD INSTALL stepNorm StartedAt: 2025-09-29 15:02:52 -0400 (Mon, 29 Sep 2025) EndedAt: 2025-09-29 15:03:11 -0400 (Mon, 29 Sep 2025) EllapsedTime: 19.5 seconds RetCode: 0 Status: OK