Package: ssize Version: 1.83.0 Command: /home/biocbuild/bbs-3.22-bioc/R/bin/R CMD INSTALL ssize StartedAt: 2025-10-07 15:02:47 -0400 (Tue, 07 Oct 2025) EndedAt: 2025-10-07 15:03:03 -0400 (Tue, 07 Oct 2025) EllapsedTime: 16.2 seconds RetCode: 0 Status: OK