Package: spatialSimGP Version: 1.5.0 Command: /home/biocbuild/bbs-3.23-bioc/R/bin/R CMD INSTALL spatialSimGP StartedAt: 2025-11-07 15:34:59 -0500 (Fri, 07 Nov 2025) EndedAt: 2025-11-07 15:35:22 -0500 (Fri, 07 Nov 2025) EllapsedTime: 22.6 seconds RetCode: 0 Status: OK