Package: spatialSimGP Version: 1.3.0 Command: /Library/Frameworks/R.framework/Resources/bin/R CMD build --keep-empty-dirs --no-resave-data spatialSimGP StartedAt: 2025-09-29 18:55:20 -0400 (Mon, 29 Sep 2025) EndedAt: 2025-09-29 18:56:38 -0400 (Mon, 29 Sep 2025) EllapsedTime: 77.6 seconds RetCode: 0 Status: OK PackageFile: spatialSimGP_1.3.0.tar.gz PackageFileSize: 730.8 KiB