Package: spatialSimGP Version: 1.3.0 Command: rm -rf spatialSimGP.buildbin-libdir && mkdir spatialSimGP.buildbin-libdir && /Users/biocbuild/BBS/utils/build-universal.sh spatialSimGP_1.3.0.tar.gz /Library/Frameworks/R.framework/Resources/bin/R spatialSimGP.buildbin-libdir StartedAt: 2025-10-01 02:09:02 -0400 (Wed, 01 Oct 2025) EndedAt: 2025-10-01 02:09:37 -0400 (Wed, 01 Oct 2025) EllapsedTime: 34.7 seconds RetCode: 0 Status: OK PackageFile: spatialSimGP_1.3.0.tgz PackageFileSize: 740 KiB