Package: spatialHeatmap Version: 2.17.0 Command: /home/biocbuild/bbs-3.23-bioc/R/bin/R CMD INSTALL spatialHeatmap StartedAt: 2025-11-10 15:37:40 -0500 (Mon, 10 Nov 2025) EndedAt: 2025-11-10 15:38:21 -0500 (Mon, 10 Nov 2025) EllapsedTime: 41.4 seconds RetCode: 0 Status: OK