Package: spatialHeatmap Version: 2.17.0 Command: /home/biocbuild/bbs-3.23-bioc/R/bin/R CMD build --keep-empty-dirs --no-resave-data spatialHeatmap StartedAt: 2025-11-10 20:16:56 -0500 (Mon, 10 Nov 2025) EndedAt: 2025-11-10 20:20:49 -0500 (Mon, 10 Nov 2025) EllapsedTime: 233.2 seconds RetCode: 1 Status: ERROR PackageFile: None PackageFileSize: NA