Package: spatialHeatmap Version: 2.15.2 Command: /Library/Frameworks/R.framework/Resources/bin/R CMD INSTALL spatialHeatmap StartedAt: 2025-10-21 15:33:40 -0400 (Tue, 21 Oct 2025) EndedAt: 2025-10-21 15:34:41 -0400 (Tue, 21 Oct 2025) EllapsedTime: 60.5 seconds RetCode: 0 Status: OK