Package: spatialHeatmap Version: 2.15.2 Command: /Library/Frameworks/R.framework/Resources/bin/R CMD build --keep-empty-dirs --no-resave-data spatialHeatmap StartedAt: 2025-10-22 18:48:04 -0400 (Wed, 22 Oct 2025) EndedAt: 2025-10-22 18:53:23 -0400 (Wed, 22 Oct 2025) EllapsedTime: 318.6 seconds RetCode: 0 Status: OK PackageFile: spatialHeatmap_2.15.2.tar.gz PackageFileSize: 35.01 MiB