Package: spatialHeatmap Version: 2.15.2 Command: rm -rf spatialHeatmap.buildbin-libdir && mkdir spatialHeatmap.buildbin-libdir && /Users/biocbuild/BBS/utils/build-universal.sh spatialHeatmap_2.15.2.tar.gz /Library/Frameworks/R.framework/Resources/bin/R spatialHeatmap.buildbin-libdir StartedAt: 2025-10-23 01:58:32 -0400 (Thu, 23 Oct 2025) EndedAt: 2025-10-23 01:59:43 -0400 (Thu, 23 Oct 2025) EllapsedTime: 70.6 seconds RetCode: 0 Status: OK PackageFile: spatialHeatmap_2.15.2.tgz PackageFileSize: 34.76 MiB