Package: spatialHeatmap Version: 2.15.1 Command: /Library/Frameworks/R.framework/Resources/bin/R CMD INSTALL spatialHeatmap StartedAt: 2025-10-05 15:18:25 -0400 (Sun, 05 Oct 2025) EndedAt: 2025-10-05 15:18:42 -0400 (Sun, 05 Oct 2025) EllapsedTime: 16.2 seconds RetCode: 0 Status: OK