Package: spatialHeatmap Version: 2.15.1 Command: /Library/Frameworks/R.framework/Resources/bin/R CMD build --keep-empty-dirs --no-resave-data spatialHeatmap StartedAt: 2025-10-05 17:52:40 -0400 (Sun, 05 Oct 2025) EndedAt: 2025-10-05 17:54:43 -0400 (Sun, 05 Oct 2025) EllapsedTime: 123.4 seconds RetCode: 0 Status: OK PackageFile: spatialHeatmap_2.15.1.tar.gz PackageFileSize: 35.32 MiB