Package: spatialFDA Version: 1.3.1 Command: /home/biocbuild/bbs-3.23-bioc/R/bin/R CMD INSTALL spatialFDA StartedAt: 2025-11-14 15:28:15 -0500 (Fri, 14 Nov 2025) EndedAt: 2025-11-14 15:28:50 -0500 (Fri, 14 Nov 2025) EllapsedTime: 35.5 seconds RetCode: 0 Status: OK