Package: spatialFDA Version: 1.1.17 Command: /Library/Frameworks/R.framework/Resources/bin/R CMD INSTALL spatialFDA StartedAt: 2025-10-01 15:24:25 -0400 (Wed, 01 Oct 2025) EndedAt: 2025-10-01 15:25:10 -0400 (Wed, 01 Oct 2025) EllapsedTime: 45.1 seconds RetCode: 0 Status: OK