Package: spatialFDA Version: 1.1.17 Command: /Library/Frameworks/R.framework/Resources/bin/R CMD build --keep-empty-dirs --no-resave-data spatialFDA StartedAt: 2025-10-01 18:57:39 -0400 (Wed, 01 Oct 2025) EndedAt: 2025-10-01 19:03:58 -0400 (Wed, 01 Oct 2025) EllapsedTime: 379.3 seconds RetCode: 0 Status: OK PackageFile: spatialFDA_1.1.17.tar.gz PackageFileSize: 6.547 MiB