Package: spatialFDA Version: 1.1.17 Command: /Library/Frameworks/R.framework/Resources/bin/R CMD INSTALL spatialFDA StartedAt: 2025-09-29 15:14:21 -0400 (Mon, 29 Sep 2025) EndedAt: 2025-09-29 15:14:34 -0400 (Mon, 29 Sep 2025) EllapsedTime: 14.0 seconds RetCode: 0 Status: OK