Package: spatialFDA Version: 1.1.17 Command: rm -rf spatialFDA.buildbin-libdir && mkdir spatialFDA.buildbin-libdir && /Users/biocbuild/BBS/utils/build-universal.sh spatialFDA_1.1.17.tar.gz /Library/Frameworks/R.framework/Resources/bin/R spatialFDA.buildbin-libdir StartedAt: 2025-09-29 22:53:12 -0400 (Mon, 29 Sep 2025) EndedAt: 2025-09-29 22:53:28 -0400 (Mon, 29 Sep 2025) EllapsedTime: 15.4 seconds RetCode: 0 Status: OK PackageFile: spatialFDA_1.1.17.tgz PackageFileSize: 6.638 MiB