Package: sparseMatrixStats Version: 1.21.0 Command: /home/biocbuild/R/R/bin/R CMD INSTALL sparseMatrixStats StartedAt: 2025-09-29 20:33:27 -0000 (Mon, 29 Sep 2025) EndedAt: 2025-09-29 20:34:02 -0000 (Mon, 29 Sep 2025) EllapsedTime: 35.3 seconds RetCode: 0 Status: OK