Package: smoothclust Version: 1.5.7 Command: /Library/Frameworks/R.framework/Resources/bin/R CMD INSTALL smoothclust StartedAt: 2025-10-17 15:15:33 -0400 (Fri, 17 Oct 2025) EndedAt: 2025-10-17 15:15:42 -0400 (Fri, 17 Oct 2025) EllapsedTime: 9.4 seconds RetCode: 0 Status: OK