Package: smoothclust Version: 1.5.7 Command: rm -rf smoothclust.buildbin-libdir && mkdir smoothclust.buildbin-libdir && /Users/biocbuild/BBS/utils/build-universal.sh smoothclust_1.5.7.tar.gz /Library/Frameworks/R.framework/Resources/bin/R smoothclust.buildbin-libdir StartedAt: 2025-10-17 23:26:27 -0400 (Fri, 17 Oct 2025) EndedAt: 2025-10-17 23:26:37 -0400 (Fri, 17 Oct 2025) EllapsedTime: 10.2 seconds RetCode: 0 Status: OK PackageFile: smoothclust_1.5.7.tgz PackageFileSize: 865.8 KiB