Package: simpleSeg Version: 1.11.1 Command: /home/biocbuild/bbs-3.22-bioc/R/bin/R CMD INSTALL simpleSeg StartedAt: 2025-10-16 16:27:24 -0400 (Thu, 16 Oct 2025) EndedAt: 2025-10-16 16:28:14 -0400 (Thu, 16 Oct 2025) EllapsedTime: 49.9 seconds RetCode: 0 Status: OK