Package: simpleSeg Version: 1.11.1 Command: /home/biocbuild/bbs-3.22-bioc/R/bin/R CMD build --keep-empty-dirs --no-resave-data --md5 simpleSeg StartedAt: 2025-10-17 20:04:00 -0400 (Fri, 17 Oct 2025) EndedAt: 2025-10-17 20:06:41 -0400 (Fri, 17 Oct 2025) EllapsedTime: 161.2 seconds RetCode: 0 Status: OK PackageFile: simpleSeg_1.11.1.tar.gz PackageFileSize: 4.547 MiB