Package: simPIC Version: 1.7.0 Command: /Library/Frameworks/R.framework/Resources/bin/R CMD build --keep-empty-dirs --no-resave-data simPIC StartedAt: 2025-11-26 18:43:12 -0500 (Wed, 26 Nov 2025) EndedAt: 2025-11-26 18:45:44 -0500 (Wed, 26 Nov 2025) EllapsedTime: 152.0 seconds RetCode: 0 Status: OK PackageFile: simPIC_1.7.0.tar.gz PackageFileSize: 5.346 MiB