Package: signatureSearch Version: 1.23.0 Command: /home/biocbuild/bbs-3.22-bioc/R/bin/R CMD build --keep-empty-dirs --no-resave-data --md5 signatureSearch StartedAt: 2025-10-24 20:13:46 -0400 (Fri, 24 Oct 2025) EndedAt: 2025-10-24 20:25:07 -0400 (Fri, 24 Oct 2025) EllapsedTime: 680.6 seconds RetCode: 0 Status: OK PackageFile: signatureSearch_1.23.0.tar.gz PackageFileSize: 5.223 MiB