Package: sigFeature Version: 1.29.0 Command: /home/biocbuild/bbs-3.23-bioc/R/bin/R CMD INSTALL sigFeature StartedAt: 2025-11-26 15:21:40 -0500 (Wed, 26 Nov 2025) EndedAt: 2025-11-26 15:22:04 -0500 (Wed, 26 Nov 2025) EllapsedTime: 24.8 seconds RetCode: 0 Status: OK