Package: sigFeature Version: 1.29.0 Command: rm -rf sigFeature.buildbin-libdir && mkdir sigFeature.buildbin-libdir && /Users/biocbuild/BBS/utils/build-universal.sh sigFeature_1.29.0.tar.gz /Library/Frameworks/R.framework/Resources/bin/R sigFeature.buildbin-libdir StartedAt: 2025-11-22 01:58:02 -0500 (Sat, 22 Nov 2025) EndedAt: 2025-11-22 01:58:39 -0500 (Sat, 22 Nov 2025) EllapsedTime: 37.1 seconds RetCode: 0 Status: OK PackageFile: sigFeature_1.29.0.tgz PackageFileSize: 502.2 KiB