Package: sigFeature Version: 1.29.0 Command: /Library/Frameworks/R.framework/Resources/bin/R CMD build --keep-empty-dirs --no-resave-data sigFeature StartedAt: 2025-11-12 17:13:31 -0500 (Wed, 12 Nov 2025) EndedAt: 2025-11-12 17:13:47 -0500 (Wed, 12 Nov 2025) EllapsedTime: 16.2 seconds RetCode: 0 Status: OK PackageFile: sigFeature_1.29.0.tar.gz PackageFileSize: 370.2 KiB