Package: sigFeature Version: 1.29.0 Command: rm -rf sigFeature.buildbin-libdir && mkdir sigFeature.buildbin-libdir && /Users/biocbuild/BBS/utils/build-universal.sh sigFeature_1.29.0.tar.gz /Library/Frameworks/R.framework/Resources/bin/R sigFeature.buildbin-libdir StartedAt: 2025-11-12 21:10:53 -0500 (Wed, 12 Nov 2025) EndedAt: 2025-11-12 21:11:06 -0500 (Wed, 12 Nov 2025) EllapsedTime: 12.3 seconds RetCode: 0 Status: OK PackageFile: sigFeature_1.29.0.tgz PackageFileSize: 503.5 KiB