Package: shinybiocloader Version: 1.1.0 Command: /home/biocbuild/bbs-3.23-bioc/R/bin/R CMD INSTALL shinybiocloader StartedAt: 2025-11-07 15:08:14 -0500 (Fri, 07 Nov 2025) EndedAt: 2025-11-07 15:08:45 -0500 (Fri, 07 Nov 2025) EllapsedTime: 30.4 seconds RetCode: 0 Status: OK