Package: shinybiocloader Version: 1.1.0 Command: /home/biocbuild/bbs-3.23-bioc/R/bin/R CMD build --keep-empty-dirs --no-resave-data shinybiocloader StartedAt: 2025-11-07 20:00:08 -0500 (Fri, 07 Nov 2025) EndedAt: 2025-11-07 20:00:18 -0500 (Fri, 07 Nov 2025) EllapsedTime: 10.0 seconds RetCode: 0 Status: OK PackageFile: shinybiocloader_1.1.0.tar.gz PackageFileSize: 28.71 KiB