Package: shinybiocloader Version: 0.99.1 Command: /Library/Frameworks/R.framework/Resources/bin/R CMD INSTALL shinybiocloader StartedAt: 2025-10-01 15:10:17 -0400 (Wed, 01 Oct 2025) EndedAt: 2025-10-01 15:10:59 -0400 (Wed, 01 Oct 2025) EllapsedTime: 42.7 seconds RetCode: 0 Status: OK