Package: shinybiocloader Version: 0.99.1 Command: /Library/Frameworks/R.framework/Resources/bin/R CMD build --keep-empty-dirs --no-resave-data shinybiocloader StartedAt: 2025-10-01 17:51:15 -0400 (Wed, 01 Oct 2025) EndedAt: 2025-10-01 17:51:20 -0400 (Wed, 01 Oct 2025) EllapsedTime: 5.1 seconds RetCode: 0 Status: OK PackageFile: shinybiocloader_0.99.1.tar.gz PackageFileSize: 28.58 KiB