Package: seqTools Version: 1.43.1 Command: /home/biocbuild/bbs-3.22-bioc/R/bin/R CMD INSTALL seqTools StartedAt: 2025-10-10 16:19:22 -0400 (Fri, 10 Oct 2025) EndedAt: 2025-10-10 16:19:22 -0400 (Fri, 10 Oct 2025) EllapsedTime: 0.2 seconds RetCode: 1 Status: ERROR