Package: seqPattern Version: 1.43.0 Command: /home/biocbuild/bbs-3.23-bioc/R/bin/R CMD INSTALL seqPattern StartedAt: 2025-11-13 15:16:51 -0500 (Thu, 13 Nov 2025) EndedAt: 2025-11-13 15:17:02 -0500 (Thu, 13 Nov 2025) EllapsedTime: 11.4 seconds RetCode: 0 Status: OK