Package: seqPattern Version: 1.41.0 Command: /Library/Frameworks/R.framework/Resources/bin/R CMD INSTALL seqPattern StartedAt: 2025-10-14 15:11:25 -0400 (Tue, 14 Oct 2025) EndedAt: 2025-10-14 15:11:29 -0400 (Tue, 14 Oct 2025) EllapsedTime: 4.7 seconds RetCode: 0 Status: OK