Package: segmenter Version: 1.17.0 Command: /home/biocbuild/bbs-3.23-bioc/R/bin/R CMD INSTALL segmenter StartedAt: 2025-11-07 15:59:41 -0500 (Fri, 07 Nov 2025) EndedAt: 2025-11-07 16:00:26 -0500 (Fri, 07 Nov 2025) EllapsedTime: 45.8 seconds RetCode: 0 Status: OK