Package: segmenter Version: 1.15.0 Command: /Library/Frameworks/R.framework/Resources/bin/R CMD INSTALL segmenter StartedAt: 2025-10-03 15:31:42 -0400 (Fri, 03 Oct 2025) EndedAt: 2025-10-03 15:32:00 -0400 (Fri, 03 Oct 2025) EllapsedTime: 18.5 seconds RetCode: 0 Status: OK